BEGIN:VCALENDAR
VERSION:2.0
PRODID:Events Booking
BEGIN:VEVENT
UID:69eb1380d00ab
SUMMARY:Zorgcentrum Pennemes
DESCRIPTION:Optreden bij Zorgcentrum Pennemes in Zaandam
LOCATION:Bloemgracht 95\, 1502 WB Zaandam\, Nederland
DTSTART:20260906T121500Z
DTEND:20260906T141500Z
DTSTAMP:20221027T150613Z
ORGANIZER;CN=Egerländer Kapel:MAILTO:info@egerlanderkapel.nl
GEO:52.443309;4.831355
X-APPLE-STRUCTURED-LOCATION;VALUE=URI;X-ADDRESS=Bloemgracht 95\, 1502 WB Za
 andam\, Nederland;X-APPLE-RADIUS=72;X-TITLE=Stichting Zorggroep Zaanstreek
  (Locatie: Pennemes):52.443309;4.831355
END:VEVENT
END:VCALENDAR