BEGIN:VCALENDAR
VERSION:2.0
PRODID:Events Booking
BEGIN:VEVENT
UID:69eb13a044944
SUMMARY:Zorgcentrum Mennistenerf
DESCRIPTION:Optreden bij Zorgcentrum Mennistenerf in Zaandam
LOCATION:H. Gerhardstraat 77\, 1502 CC Zaandam\, Nederland
DTSTART:20270117T133000Z
DTEND:20270117T153000Z
DTSTAMP:20260119T141944Z
ORGANIZER;CN=Egerländer Kapel:MAILTO:info@egerlanderkapel.nl
GEO:52.441124;4.832497
X-APPLE-STRUCTURED-LOCATION;VALUE=URI;X-ADDRESS=H. Gerhardstraat 77\, 1502 
 CC Zaandam\, Nederland;X-APPLE-RADIUS=72;X-TITLE=Stichting Zorggroep Zaans
 treek (Locatie: Mennistenerf):52.441124;4.832497
END:VEVENT
END:VCALENDAR