BEGIN:VCALENDAR
VERSION:2.0
PRODID:Events Booking
BEGIN:VEVENT
UID:69eb12798195b
SUMMARY:Toldieks Feest
DESCRIPTION:Optreden op 4 juli tijdens het&nbsp\;Toldieks Feest in Toldijk
LOCATION:Emmerikseweg 37\, 7204 SC Zutphen\, Nederland
DTSTART:20260704T100000Z
DTEND:20260704T130000Z
DTSTAMP:20260331T150035Z
ORGANIZER;CN=Egerländer Kapel:MAILTO:info@egerlanderkapel.nl
GEO:52.134881;6.202955
X-APPLE-STRUCTURED-LOCATION;VALUE=URI;X-ADDRESS=Emmerikseweg 37\, 7204 SC Z
 utphen\, Nederland;X-APPLE-RADIUS=72;X-TITLE=Toldijk:52.134881;6.202955
END:VEVENT
END:VCALENDAR