BEGIN:VCALENDAR
VERSION:2.0
PRODID:Events Booking
BEGIN:VEVENT
UID:69eb13edeabd0
SUMMARY:Omringlocatie Sweelinckhof
DESCRIPTION:Optreden voor Omringlocatie Sweelinckhof.&nbsp\;&nbsp\;
LOCATION:Sweelinckhof 1\, 1687 BV Wognum\, Nederland
DTSTART:20261024T123000Z
DTEND:20261024T141500Z
DTSTAMP:20260204T114244Z
ORGANIZER;CN=Egerländer Kapel:MAILTO:info@egerlanderkapel.nl
GEO:52.6855;5.026584
X-APPLE-STRUCTURED-LOCATION;VALUE=URI;X-ADDRESS=Sweelinckhof 1\, 1687 BV Wo
 gnum\, Nederland;X-APPLE-RADIUS=72;X-TITLE=Omringlocatie Sweelinckhof:52.6
 855;5.026584
END:VEVENT
END:VCALENDAR