BEGIN:VCALENDAR
VERSION:2.0
PRODID:Events Booking
BEGIN:VEVENT
UID:69eb13b4e3265
SUMMARY:Omringlocatie Overvest
DESCRIPTION:Optreden voor Omringlocatie Overvest.
LOCATION:Lijsterbesstraat 4\, 1602 SE Enkhuizen\, Nederland
DTSTART:20261011T130000Z
DTEND:20261011T143000Z
DTSTAMP:20260119T142049Z
ORGANIZER;CN=Egerländer Kapel:MAILTO:info@egerlanderkapel.nl
GEO:52.708426;5.279355
X-APPLE-STRUCTURED-LOCATION;VALUE=URI;X-ADDRESS=Lijsterbesstraat 4\, 1602 S
 E Enkhuizen\, Nederland;X-APPLE-RADIUS=72;X-TITLE=Omringlocatie Overvest:5
 2.708426;5.279355
END:VEVENT
END:VCALENDAR