BEGIN:VCALENDAR
VERSION:2.0
PRODID:Events Booking
BEGIN:VEVENT
UID:69eb13e85de77
SUMMARY:Nieuwjaarsconcert 2027
DESCRIPTION:Nieuwjaarsconcert Egerländer Kapel
 Op zondag 10 januari 2027
  om half twee is het weer tijd voor het nieuwjaarsconcert van de Egerländ
 er Kapel.
LOCATION:Kleingouw 112\, 1619 CH Andijk\, Nederland
DTSTART:20270110T123000Z
DTSTAMP:20260224T095646Z
ORGANIZER;CN=Egerländer Kapel:MAILTO:info@egerlanderkapel.nl
GEO:52.740361;5.196744
X-APPLE-STRUCTURED-LOCATION;VALUE=URI;X-ADDRESS=Kleingouw 112\, 1619 CH And
 ijk\, Nederland;X-APPLE-RADIUS=72;X-TITLE=Cultura Andijk:52.740361;5.19674
 4
END:VEVENT
END:VCALENDAR