BEGIN:VCALENDAR
VERSION:2.0
PRODID:Events Booking
BEGIN:VEVENT
UID:69eb13f3063e9
SUMMARY:Huize St. Jozef te Wervershoof
DESCRIPTION:Optreden in Huize St. Jozef te Wervershoof.&nbsp\;
LOCATION:De Gouw 2\, 1693 DC Wervershoof\, Nederland
DTSTART:20261003T130000Z
DTEND:20261003T143000Z
DTSTAMP:20260119T152632Z
ORGANIZER;CN=Egerländer Kapel:MAILTO:info@egerlanderkapel.nl
GEO:52.730569;5.159802
X-APPLE-STRUCTURED-LOCATION;VALUE=URI;X-ADDRESS=De Gouw 2\, 1693 DC Wervers
 hoof\, Nederland;X-APPLE-RADIUS=72;X-TITLE=Huize St. Jozef te Wervershoof:
 52.730569;5.159802
END:VEVENT
END:VCALENDAR